BEGIN:VCALENDAR
VERSION:2.0
PRODID:-//South Windsor Skating Club - ECPv4.9.3.1//NONSGML v1.0//EN
CALSCALE:GREGORIAN
METHOD:PUBLISH
X-WR-CALNAME:South Windsor Skating Club
X-ORIGINAL-URL:https://swskatingclub.ca
X-WR-CALDESC:Events for South Windsor Skating Club
BEGIN:VEVENT
DTSTART;TZID=UTC+0:20240827T150000
DTEND;TZID=UTC+0:20240827T201000
DTSTAMP:20260422T022503
CREATED:20240511T235418Z
LAST-MODIFIED:20240723T221209Z
UID:3710-1724770800-1724789400@swskatingclub.ca
SUMMARY:August 27th StarSkate Schedule
DESCRIPTION:**3:00-3:50 Open Star** \n**4:00-5:20 Star 7-Gold** \n**5:35-6:25 Star 1-4** \n**6:35-7:55 Star 5-Gold** \n
URL:https://swskatingclub.ca/event/august-27th-starskate-schedule/
CATEGORIES:StarSkate Schedule
END:VEVENT
END:VCALENDAR