BEGIN:VCALENDAR
VERSION:2.0
PRODID:-//South Windsor Skating Club - ECPv4.9.3.1//NONSGML v1.0//EN
CALSCALE:GREGORIAN
METHOD:PUBLISH
X-WR-CALNAME:South Windsor Skating Club
X-ORIGINAL-URL:https://swskatingclub.ca
X-WR-CALDESC:Events for South Windsor Skating Club
BEGIN:VEVENT
DTSTART;TZID=UTC+0:20200927T151500
DTEND;TZID=UTC+0:20200927T201500
DTSTAMP:20260420T165825
CREATED:20200914T012158Z
LAST-MODIFIED:20200927T172233Z
UID:1141-1601219700-1601237700@swskatingclub.ca
SUMMARY:CANSkate and STARSkate
DESCRIPTION:CANSkate C 5:25-6:15 pm \nSTARSkate 1-4 6:25-7:15 pm \nSTARSkate 4-GOLD 7:25-8:15 pm \n
URL:https://swskatingclub.ca/event/canskate-and-starskate/
END:VEVENT
END:VCALENDAR