BEGIN:VCALENDAR
VERSION:2.0
PRODID:-//South Windsor Skating Club - ECPv4.9.3.1//NONSGML v1.0//EN
CALSCALE:GREGORIAN
METHOD:PUBLISH
X-WR-CALNAME:South Windsor Skating Club
X-ORIGINAL-URL:https://swskatingclub.ca
X-WR-CALDESC:Events for South Windsor Skating Club
BEGIN:VEVENT
DTSTART;TZID=UTC+0:20200216T151500
DTEND;TZID=UTC+0:20200216T204500
DTSTAMP:20260422T013251
CREATED:20191228T234958Z
LAST-MODIFIED:20191228T234958Z
UID:635-1581866100-1581885900@swskatingclub.ca
SUMMARY:CANSkate\, PRE-CANSkate and STARSkate Today.
DESCRIPTION:Regularly scheduled classes today.  See posted schedule on our homepage. \n
URL:https://swskatingclub.ca/event/canskate-pre-canskate-and-starskate-today-11/
CATEGORIES:CanSkate Schedule,Pre-Can Skate,StarSkate Schedule
END:VEVENT
END:VCALENDAR