BEGIN:VCALENDAR
VERSION:2.0
PRODID:-//South Windsor Skating Club - ECPv4.9.3.1//NONSGML v1.0//EN
CALSCALE:GREGORIAN
METHOD:PUBLISH
X-WR-CALNAME:South Windsor Skating Club
X-ORIGINAL-URL:https://swskatingclub.ca
X-WR-CALDESC:Events for South Windsor Skating Club
BEGIN:VEVENT
DTSTART;TZID=UTC+0:20200202T151500
DTEND;TZID=UTC+0:20200202T204500
DTSTAMP:20260418T233627
CREATED:20191228T233442Z
LAST-MODIFIED:20191228T233442Z
UID:611-1580656500-1580676300@swskatingclub.ca
SUMMARY:CANSkate\, PRE-CANSkate and STARSkate Today.
DESCRIPTION:Regularly scheduled classes today.  See posted schedule on our homepage. \nThis is a change from the original schedule which had this as a no ice day. \n  \n
URL:https://swskatingclub.ca/event/canskate-pre-canskate-and-starskate-today-7/
CATEGORIES:CanSkate Schedule,Pre-Can Skate,StarSkate Schedule
END:VEVENT
END:VCALENDAR