BEGIN:VCALENDAR
VERSION:2.0
PRODID:-//South Windsor Skating Club - ECPv4.9.3.1//NONSGML v1.0//EN
CALSCALE:GREGORIAN
METHOD:PUBLISH
X-WR-CALNAME:South Windsor Skating Club
X-ORIGINAL-URL:https://swskatingclub.ca
X-WR-CALDESC:Events for South Windsor Skating Club
BEGIN:VEVENT
DTSTART;TZID=UTC+0:20250404T160000
DTEND;TZID=UTC+0:20250404T183000
DTSTAMP:20260421T145946
CREATED:20250210T002957Z
LAST-MODIFIED:20250210T002957Z
UID:4298-1743782400-1743791400@swskatingclub.ca
SUMMARY:Friday\, April 4th Schedule
DESCRIPTION:**4:10-5:30 Star 6-Gold** \n**5:40-6:30 Star 1-5** \n
URL:https://swskatingclub.ca/event/friday-april-4th-schedule/
CATEGORIES:StarSkate Schedule
END:VEVENT
END:VCALENDAR