BEGIN:VCALENDAR
VERSION:2.0
PRODID:-//South Windsor Skating Club - ECPv4.9.3.1//NONSGML v1.0//EN
CALSCALE:GREGORIAN
METHOD:PUBLISH
X-WR-CALNAME:South Windsor Skating Club
X-ORIGINAL-URL:https://swskatingclub.ca
X-WR-CALDESC:Events for South Windsor Skating Club
BEGIN:VEVENT
DTSTART;TZID=UTC+0:20260213T161000
DTEND;TZID=UTC+0:20260213T183000
DTSTAMP:20260413T153715
CREATED:20250815T003130Z
LAST-MODIFIED:20250815T003130Z
UID:4856-1770999000-1771007400@swskatingclub.ca
SUMMARY:Friday\, February 13th Schedule
DESCRIPTION:**4:10-5:30 Star 6-Gold** \n**5:40-6:30 Star 1-5 + StarAdults** \n
URL:https://swskatingclub.ca/event/friday-february-13th-schedule/
CATEGORIES:StarSkate Schedule
END:VEVENT
END:VCALENDAR