BEGIN:VCALENDAR
VERSION:2.0
PRODID:-//South Windsor Skating Club - ECPv4.9.3.1//NONSGML v1.0//EN
CALSCALE:GREGORIAN
METHOD:PUBLISH
X-WR-CALNAME:South Windsor Skating Club
X-ORIGINAL-URL:https://swskatingclub.ca
X-WR-CALDESC:Events for South Windsor Skating Club
BEGIN:VEVENT
DTSTART;TZID=UTC+0:20220121T160000
DTEND;TZID=UTC+0:20220121T183000
DTSTAMP:20260419T191826
CREATED:20210830T204328Z
LAST-MODIFIED:20210830T204328Z
UID:1819-1642780800-1642789800@swskatingclub.ca
SUMMARY:Friday January 21 Schedule
DESCRIPTION:4:10-5:30 Star 6-Gold \n5:40-6:30 Star 1-5 \n
URL:https://swskatingclub.ca/event/friday-january-21-schedule/
CATEGORIES:StarSkate Schedule
END:VEVENT
END:VCALENDAR