BEGIN:VCALENDAR
VERSION:2.0
PRODID:-//South Windsor Skating Club - ECPv4.9.3.1//NONSGML v1.0//EN
CALSCALE:GREGORIAN
METHOD:PUBLISH
X-WR-CALNAME:South Windsor Skating Club
X-ORIGINAL-URL:https://swskatingclub.ca
X-WR-CALDESC:Events for South Windsor Skating Club
BEGIN:VEVENT
DTSTART;VALUE=DATE:20250314
DTEND;VALUE=DATE:20250315
DTSTAMP:20260421T180509
CREATED:20240823T023828Z
LAST-MODIFIED:20240823T023828Z
UID:4186-1741910400-1741996799@swskatingclub.ca
SUMMARY:Friday\, March 14th - No Skating
DESCRIPTION:**No Skating Today** \n
URL:https://swskatingclub.ca/event/friday-march-14th-no-skating/
CATEGORIES:StarSkate Schedule
END:VEVENT
END:VCALENDAR