BEGIN:VCALENDAR
VERSION:2.0
PRODID:-//South Windsor Skating Club - ECPv4.9.3.1//NONSGML v1.0//EN
CALSCALE:GREGORIAN
METHOD:PUBLISH
X-WR-CALNAME:South Windsor Skating Club
X-ORIGINAL-URL:https://swskatingclub.ca
X-WR-CALDESC:Events for South Windsor Skating Club
BEGIN:VEVENT
DTSTART;TZID=UTC+0:20250912T161000
DTEND;TZID=UTC+0:20250912T173000
DTSTAMP:20260413T154634
CREATED:20250815T000902Z
LAST-MODIFIED:20250815T000902Z
UID:4812-1757693400-1757698200@swskatingclub.ca
SUMMARY:Friday\, September 12th Schedule
DESCRIPTION:**4:10-5:30 Star 6-Gold** \n**5:40-6:30 Star 1-5 + StarAdults** \n
URL:https://swskatingclub.ca/event/friday-september-12th-schedule/
CATEGORIES:StarSkate Schedule
END:VEVENT
END:VCALENDAR