BEGIN:VCALENDAR
VERSION:2.0
PRODID:-//South Windsor Skating Club - ECPv4.9.3.1//NONSGML v1.0//EN
CALSCALE:GREGORIAN
METHOD:PUBLISH
X-WR-CALNAME:South Windsor Skating Club
X-ORIGINAL-URL:https://swskatingclub.ca
X-WR-CALDESC:Events for South Windsor Skating Club
BEGIN:VEVENT
DTSTART;TZID=UTC+0:20240927T160000
DTEND;TZID=UTC+0:20240927T183000
DTSTAMP:20260422T003352
CREATED:20240823T021757Z
LAST-MODIFIED:20240823T021757Z
UID:4138-1727452800-1727461800@swskatingclub.ca
SUMMARY:Friday\, September 27th Schedule
DESCRIPTION:**4:10-5:30 Star 6-Gold** \n**5:40-6:30 Star 1-5** \n
URL:https://swskatingclub.ca/event/friday-september-27th-schedule/
CATEGORIES:StarSkate Schedule
END:VEVENT
END:VCALENDAR