BEGIN:VCALENDAR
VERSION:2.0
PRODID:-//South Windsor Skating Club - ECPv4.9.3.1//NONSGML v1.0//EN
CALSCALE:GREGORIAN
METHOD:PUBLISH
X-WR-CALNAME:South Windsor Skating Club
X-ORIGINAL-URL:https://swskatingclub.ca
X-WR-CALDESC:Events for South Windsor Skating Club
BEGIN:VEVENT
DTSTART;TZID=UTC+0:20240906T160000
DTEND;TZID=UTC+0:20240906T183000
DTSTAMP:20260421T175742
CREATED:20240823T021456Z
LAST-MODIFIED:20240823T021456Z
UID:4132-1725638400-1725647400@swskatingclub.ca
SUMMARY:Friday\, September 6th Schedule
DESCRIPTION:**4:10-5:30 Star 6-Gold** \n**5:40-6:30 Star 1-5** \n
URL:https://swskatingclub.ca/event/friday-september-6th-schedule/
CATEGORIES:StarSkate Schedule
END:VEVENT
END:VCALENDAR