BEGIN:VCALENDAR
VERSION:2.0
PRODID:-//South Windsor Skating Club - ECPv4.9.3.1//NONSGML v1.0//EN
CALSCALE:GREGORIAN
METHOD:PUBLISH
X-WR-CALNAME:South Windsor Skating Club
X-ORIGINAL-URL:https://swskatingclub.ca
X-WR-CALDESC:Events for South Windsor Skating Club
BEGIN:VEVENT
DTSTART;TZID=UTC+0:20220909T160000
DTEND;TZID=UTC+0:20220909T183000
DTSTAMP:20260421T083304
CREATED:20220815T203508Z
LAST-MODIFIED:20220815T203508Z
UID:2366-1662739200-1662748200@swskatingclub.ca
SUMMARY:Friday\, September 9th Schedule
DESCRIPTION:**Rink B** \n**4:10-5:30 STAR 6-GOLD** \n**5:40-6:30 STAR 1-5** \n
URL:https://swskatingclub.ca/event/friday-september-9th-schedule/
CATEGORIES:StarSkate Schedule
END:VEVENT
END:VCALENDAR