BEGIN:VCALENDAR
VERSION:2.0
PRODID:-//South Windsor Skating Club - ECPv4.9.3.1//NONSGML v1.0//EN
CALSCALE:GREGORIAN
METHOD:PUBLISH
X-WR-CALNAME:South Windsor Skating Club
X-ORIGINAL-URL:https://swskatingclub.ca
X-WR-CALDESC:Events for South Windsor Skating Club
BEGIN:VEVENT
DTSTART;TZID=UTC+0:20240711T160000
DTEND;TZID=UTC+0:20240711T201000
DTSTAMP:20260422T022509
CREATED:20240511T235550Z
LAST-MODIFIED:20240511T235550Z
UID:3714-1720713600-1720728600@swskatingclub.ca
SUMMARY:July 11th StarSkate Schedule
DESCRIPTION:**4:00-5:20 Star 7-Gold** \n**5:35-6:25 Star 1-4** \n**6:35-7:55 Star 5-Gold** \n
URL:https://swskatingclub.ca/event/july-11th-starskate-schedule/
CATEGORIES:StarSkate Schedule
END:VEVENT
END:VCALENDAR