BEGIN:VCALENDAR
VERSION:2.0
PRODID:-//South Windsor Skating Club - ECPv4.9.3.1//NONSGML v1.0//EN
CALSCALE:GREGORIAN
METHOD:PUBLISH
X-WR-CALNAME:South Windsor Skating Club
X-ORIGINAL-URL:https://swskatingclub.ca
X-WR-CALDESC:Events for South Windsor Skating Club
BEGIN:VEVENT
DTSTART;TZID=UTC+0:20240723T160000
DTEND;TZID=UTC+0:20240723T201000
DTSTAMP:20260422T052254
CREATED:20240511T234859Z
LAST-MODIFIED:20240511T234859Z
UID:3700-1721750400-1721765400@swskatingclub.ca
SUMMARY:July 23rd StarSkate Schedule
DESCRIPTION:**4:00-5:20 Star 7-Gold** \n**5:35-6:25 Star 1-4** \n**6:35-7:55 Star 5-Gold** \n
URL:https://swskatingclub.ca/event/july-23rd-starskate-schedule/
CATEGORIES:StarSkate Schedule
END:VEVENT
END:VCALENDAR