BEGIN:VCALENDAR
VERSION:2.0
PRODID:-//South Windsor Skating Club - ECPv4.9.3.1//NONSGML v1.0//EN
CALSCALE:GREGORIAN
METHOD:PUBLISH
X-WR-CALNAME:South Windsor Skating Club
X-ORIGINAL-URL:https://swskatingclub.ca
X-WR-CALDESC:Events for South Windsor Skating Club
BEGIN:VEVENT
DTSTART;TZID=UTC+0:20240502T161500
DTEND;TZID=UTC+0:20240502T211500
DTSTAMP:20260417T183316
CREATED:20240208T221951Z
LAST-MODIFIED:20240208T221951Z
UID:3600-1714666500-1714684500@swskatingclub.ca
SUMMARY:May 2nd Schedule
DESCRIPTION:**4:25-5:45 Star 7-Gold** \n**5:55-6:45 Star 1-3** \n**6:55-8:15 Star 4-6** \n**8:25-9:15 Teen & Adult Learn to Skate** \n**5:15-5:45 Star 1-3 Off-Ice** \n**6:00-6:30 Star 4-Gold Off-Ice** \n
URL:https://swskatingclub.ca/event/may-2nd-schedule/
CATEGORIES:AdultSkate Schedule,StarSkate Schedule
END:VEVENT
END:VCALENDAR