BEGIN:VCALENDAR
VERSION:2.0
PRODID:-//South Windsor Skating Club - ECPv4.9.3.1//NONSGML v1.0//EN
CALSCALE:GREGORIAN
METHOD:PUBLISH
X-WR-CALNAME:South Windsor Skating Club
X-ORIGINAL-URL:https://swskatingclub.ca
X-WR-CALDESC:Events for South Windsor Skating Club
BEGIN:VEVENT
DTSTART;TZID=UTC+0:20250421T160000
DTEND;TZID=UTC+0:20250421T210000
DTSTAMP:20260421T174938
CREATED:20250210T000058Z
LAST-MODIFIED:20250210T000058Z
UID:4248-1745251200-1745269200@swskatingclub.ca
SUMMARY:Monday\, April 21st Schedule
DESCRIPTION:**4:10-5:30 Star 6-Gold** \n**5:30-6:20 CanSkate All Levels** \n**6:30-7:30 Star 3-6** \n**7:40-9:00 Star 7-Gold** \n
URL:https://swskatingclub.ca/event/monday-april-21st-schedule/
CATEGORIES:CanSkate Schedule,StarSkate Schedule
END:VEVENT
END:VCALENDAR