BEGIN:VCALENDAR
VERSION:2.0
PRODID:-//South Windsor Skating Club - ECPv4.9.3.1//NONSGML v1.0//EN
CALSCALE:GREGORIAN
METHOD:PUBLISH
X-WR-CALNAME:South Windsor Skating Club
X-ORIGINAL-URL:https://swskatingclub.ca
X-WR-CALDESC:Events for South Windsor Skating Club
BEGIN:VEVENT
DTSTART;TZID=UTC+0:20211213T160000
DTEND;TZID=UTC+0:20211213T211500
DTSTAMP:20260419T204101
CREATED:20210830T014742Z
LAST-MODIFIED:20210830T014742Z
UID:1751-1639411200-1639430100@swskatingclub.ca
SUMMARY:Monday December 13 Schedule
DESCRIPTION:4:10-5:00 Star 4-Gold \n5:25-6:15 Santa Skate for CANSkate \n6:25-7:45 Star 4-6 \n7:55-9:15 Star 7-Gold \n
URL:https://swskatingclub.ca/event/monday-december-13-schedule/
CATEGORIES:CanSkate Schedule,StarSkate Schedule
END:VEVENT
END:VCALENDAR