BEGIN:VCALENDAR
VERSION:2.0
PRODID:-//South Windsor Skating Club - ECPv4.9.3.1//NONSGML v1.0//EN
CALSCALE:GREGORIAN
METHOD:PUBLISH
X-WR-CALNAME:South Windsor Skating Club
X-ORIGINAL-URL:https://swskatingclub.ca
X-WR-CALDESC:Events for South Windsor Skating Club
BEGIN:VEVENT
DTSTART;TZID=UTC+0:20251215T155500
DTEND;TZID=UTC+0:20251215T204500
DTSTAMP:20260413T154350
CREATED:20250814T185327Z
LAST-MODIFIED:20250814T185327Z
UID:4606-1765814100-1765831500@swskatingclub.ca
SUMMARY:Monday\, December 15th Schedule
DESCRIPTION:**3:55-5:20 Star 6-Gold** \n**5:20-6:15 CanSkate** \n**6:25-7:15 Star 4-Gold + StarAdults** \n**7:25-8:45 Star 7-Gold** \n
URL:https://swskatingclub.ca/event/monday-december-15th-schedule/
CATEGORIES:CanSkate Schedule,StarSkate Schedule
END:VEVENT
END:VCALENDAR