BEGIN:VCALENDAR
VERSION:2.0
PRODID:-//South Windsor Skating Club - ECPv4.9.3.1//NONSGML v1.0//EN
CALSCALE:GREGORIAN
METHOD:PUBLISH
X-WR-CALNAME:South Windsor Skating Club
X-ORIGINAL-URL:https://swskatingclub.ca
X-WR-CALDESC:Events for South Windsor Skating Club
BEGIN:VEVENT
DTSTART;TZID=UTC+0:20251229T165500
DTEND;TZID=UTC+0:20251229T204500
DTSTAMP:20260419T234013
CREATED:20250814T185631Z
LAST-MODIFIED:20250814T185631Z
UID:4610-1767027300-1767041100@swskatingclub.ca
SUMMARY:Monday\, December 29th Schedule
DESCRIPTION:**No CanSkate** \n**4:55-6:15 Star 6-Gold** \n**6:25-7:15 Star 4-Gold + StarAdults** \n**7:25-8:45 Star 7-Gold** \n
URL:https://swskatingclub.ca/event/monday-december-29th-schedule/
CATEGORIES:CanSkate Schedule,StarSkate Schedule
END:VEVENT
END:VCALENDAR