BEGIN:VCALENDAR
VERSION:2.0
PRODID:-//South Windsor Skating Club - ECPv4.9.3.1//NONSGML v1.0//EN
CALSCALE:GREGORIAN
METHOD:PUBLISH
X-WR-CALNAME:South Windsor Skating Club
X-ORIGINAL-URL:https://swskatingclub.ca
X-WR-CALDESC:Events for South Windsor Skating Club
BEGIN:VEVENT
DTSTART;TZID=UTC+0:20220131T160000
DTEND;TZID=UTC+0:20220131T211500
DTSTAMP:20260419T175626
CREATED:20210830T210825Z
LAST-MODIFIED:20210830T210825Z
UID:1835-1643644800-1643663700@swskatingclub.ca
SUMMARY:Monday January 31 Schedule
DESCRIPTION:4:10-5:00 Star 4-Gold \n5:25-6:15 CANSkate \n5:35-6:05 PRECANSkate \n6:25-7:45 Star 4-6 \n7:55-9:15 Star 7-Gold \n
URL:https://swskatingclub.ca/event/monday-january-31-schedule/
CATEGORIES:CanSkate Schedule,Pre-Can Skate,StarSkate Schedule
END:VEVENT
END:VCALENDAR