BEGIN:VCALENDAR
VERSION:2.0
PRODID:-//South Windsor Skating Club - ECPv4.9.3.1//NONSGML v1.0//EN
CALSCALE:GREGORIAN
METHOD:PUBLISH
X-WR-CALNAME:South Windsor Skating Club
X-ORIGINAL-URL:https://swskatingclub.ca
X-WR-CALDESC:Events for South Windsor Skating Club
BEGIN:VEVENT
DTSTART;TZID=UTC+0:20241007T163000
DTEND;TZID=UTC+0:20241007T210000
DTSTAMP:20260422T022217
CREATED:20240822T203541Z
LAST-MODIFIED:20240822T203541Z
UID:3900-1728318600-1728334800@swskatingclub.ca
SUMMARY:Monday\, October 7th Schedule
DESCRIPTION:**4:40-5:40 Star 6-Gold** \n**5:40-6:30 CanSkate** \n**6:40-7:35 Star 4-6** \n**7:45-9:00 Star 7-Gold** \n
URL:https://swskatingclub.ca/event/monday-october-7th-schedule/
CATEGORIES:CanSkate Schedule,StarSkate Schedule
END:VEVENT
END:VCALENDAR