BEGIN:VCALENDAR
VERSION:2.0
PRODID:-//South Windsor Skating Club - ECPv4.9.3.1//NONSGML v1.0//EN
CALSCALE:GREGORIAN
METHOD:PUBLISH
X-WR-CALNAME:South Windsor Skating Club
X-ORIGINAL-URL:https://swskatingclub.ca
X-WR-CALDESC:Events for South Windsor Skating Club
BEGIN:VEVENT
DTSTART;TZID=UTC+0:20220912T163000
DTEND;TZID=UTC+0:20220912T211500
DTSTAMP:20260419T084336
CREATED:20220815T203954Z
LAST-MODIFIED:20220815T203954Z
UID:2372-1663000200-1663017300@swskatingclub.ca
SUMMARY:Monday\, September 12th Schedule
DESCRIPTION:**Rink B** \n**4:40-6:00 STAR 5-GOLD** \n**Rink A** \n**6:25-7:45 STAR 4-6** \n**7:55-9:15 STAR 7-GOLD** \n
URL:https://swskatingclub.ca/event/monday-september-12th-schedule/
CATEGORIES:StarSkate Schedule
END:VEVENT
END:VCALENDAR