BEGIN:VCALENDAR
VERSION:2.0
PRODID:-//South Windsor Skating Club - ECPv4.9.3.1//NONSGML v1.0//EN
CALSCALE:GREGORIAN
METHOD:PUBLISH
X-WR-CALNAME:South Windsor Skating Club
X-ORIGINAL-URL:https://swskatingclub.ca
X-WR-CALDESC:Events for South Windsor Skating Club
BEGIN:VEVENT
DTSTART;VALUE=DATE:20240902
DTEND;VALUE=DATE:20240903
DTSTAMP:20260418T192635
CREATED:20240822T203006Z
LAST-MODIFIED:20240822T203006Z
UID:3890-1725235200-1725321599@swskatingclub.ca
SUMMARY:Monday\, September 2nd - No Skating
DESCRIPTION:No Skating Today \n
URL:https://swskatingclub.ca/event/monday-september-2nd-no-skating/
CATEGORIES:StarSkate Schedule
END:VEVENT
END:VCALENDAR