BEGIN:VCALENDAR
VERSION:2.0
PRODID:-//South Windsor Skating Club - ECPv4.9.3.1//NONSGML v1.0//EN
CALSCALE:GREGORIAN
METHOD:PUBLISH
X-WR-CALNAME:South Windsor Skating Club
X-ORIGINAL-URL:https://swskatingclub.ca
X-WR-CALDESC:Events for South Windsor Skating Club
BEGIN:VEVENT
DTSTART;VALUE=DATE:20220116
DTEND;VALUE=DATE:20220117
DTSTAMP:20260419T192026
CREATED:20210830T202909Z
LAST-MODIFIED:20210830T202909Z
UID:1809-1642291200-1642377599@swskatingclub.ca
SUMMARY:No Skating Today
DESCRIPTION:
URL:https://swskatingclub.ca/event/no-skating-today-28/
END:VEVENT
END:VCALENDAR