BEGIN:VCALENDAR
VERSION:2.0
PRODID:-//South Windsor Skating Club - ECPv4.9.3.1//NONSGML v1.0//EN
CALSCALE:GREGORIAN
METHOD:PUBLISH
X-WR-CALNAME:South Windsor Skating Club
X-ORIGINAL-URL:https://swskatingclub.ca
X-WR-CALDESC:Events for South Windsor Skating Club
BEGIN:VEVENT
DTSTART;VALUE=DATE:20220306
DTEND;VALUE=DATE:20220307
DTSTAMP:20260421T082958
CREATED:20210831T145140Z
LAST-MODIFIED:20210831T145140Z
UID:1893-1646524800-1646611199@swskatingclub.ca
SUMMARY:No Skating Today
DESCRIPTION:
URL:https://swskatingclub.ca/event/no-skating-today-29/
END:VEVENT
END:VCALENDAR