BEGIN:VCALENDAR
VERSION:2.0
PRODID:-//South Windsor Skating Club - ECPv4.9.3.1//NONSGML v1.0//EN
CALSCALE:GREGORIAN
METHOD:PUBLISH
X-WR-CALNAME:South Windsor Skating Club
X-ORIGINAL-URL:https://swskatingclub.ca
X-WR-CALDESC:Events for South Windsor Skating Club
BEGIN:VEVENT
DTSTART;VALUE=DATE:20220905
DTEND;VALUE=DATE:20220906
DTSTAMP:20260421T085304
CREATED:20220815T202829Z
LAST-MODIFIED:20220815T202829Z
UID:2358-1662336000-1662422399@swskatingclub.ca
SUMMARY:No Skating Today
DESCRIPTION:
URL:https://swskatingclub.ca/event/no-skating-today-34/
CATEGORIES:AdultSkate Schedule,CanSkate Schedule,PowerSkate Schedule,Pre-Can Skate,StarSkate Schedule
END:VEVENT
END:VCALENDAR