BEGIN:VCALENDAR
VERSION:2.0
PRODID:-//South Windsor Skating Club - ECPv4.9.3.1//NONSGML v1.0//EN
CALSCALE:GREGORIAN
METHOD:PUBLISH
X-WR-CALNAME:South Windsor Skating Club
X-ORIGINAL-URL:https://swskatingclub.ca
X-WR-CALDESC:Events for South Windsor Skating Club
BEGIN:VEVENT
DTSTART;VALUE=DATE:20220906
DTEND;VALUE=DATE:20220907
DTSTAMP:20260418T184648
CREATED:20220815T202919Z
LAST-MODIFIED:20220815T202919Z
UID:2360-1662422400-1662508799@swskatingclub.ca
SUMMARY:No Skating Today
DESCRIPTION:
URL:https://swskatingclub.ca/event/no-skating-today-35/
CATEGORIES:AdultSkate Schedule,CanSkate Schedule,PowerSkate Schedule,Pre-Can Skate,StarSkate Schedule
END:VEVENT
END:VCALENDAR