BEGIN:VCALENDAR
VERSION:2.0
PRODID:-//South Windsor Skating Club - ECPv4.9.3.1//NONSGML v1.0//EN
CALSCALE:GREGORIAN
METHOD:PUBLISH
X-WR-CALNAME:South Windsor Skating Club
X-ORIGINAL-URL:https://swskatingclub.ca
X-WR-CALDESC:Events for South Windsor Skating Club
BEGIN:VEVENT
DTSTART;VALUE=DATE:20211010
DTEND;VALUE=DATE:20211011
DTSTAMP:20260419T232913
CREATED:20210829T172941Z
LAST-MODIFIED:20210829T172941Z
UID:1641-1633824000-1633910399@swskatingclub.ca
SUMMARY:No Skating Today - Happy Thanksgiving
DESCRIPTION:
URL:https://swskatingclub.ca/event/no-skating-today-happy-thanksgiving/
CATEGORIES:CanSkate Schedule,Pre-Can Skate,StarSkate Schedule
END:VEVENT
END:VCALENDAR