BEGIN:VCALENDAR
VERSION:2.0
PRODID:-//South Windsor Skating Club - ECPv4.9.3.1//NONSGML v1.0//EN
CALSCALE:GREGORIAN
METHOD:PUBLISH
X-WR-CALNAME:South Windsor Skating Club
X-ORIGINAL-URL:https://swskatingclub.ca
X-WR-CALDESC:Events for South Windsor Skating Club
BEGIN:VEVENT
DTSTART;VALUE=DATE:20211231
DTEND;VALUE=DATE:20220101
DTSTAMP:20260419T192317
CREATED:20210830T020843Z
LAST-MODIFIED:20210830T020843Z
UID:1783-1640908800-1640995199@swskatingclub.ca
SUMMARY:No Skating Today - New Year's Eve
DESCRIPTION:
URL:https://swskatingclub.ca/event/no-skating-today-new-years-eve/
END:VEVENT
END:VCALENDAR