BEGIN:VCALENDAR
VERSION:2.0
PRODID:-//South Windsor Skating Club - ECPv4.9.3.1//NONSGML v1.0//EN
CALSCALE:GREGORIAN
METHOD:PUBLISH
X-WR-CALNAME:South Windsor Skating Club
X-ORIGINAL-URL:https://swskatingclub.ca
X-WR-CALDESC:Events for South Windsor Skating Club
BEGIN:VEVENT
DTSTART;VALUE=DATE:20250329
DTEND;VALUE=DATE:20250330
DTSTAMP:20260421T133534
CREATED:20250209T235034Z
LAST-MODIFIED:20250209T235438Z
UID:4240-1743206400-1743292799@swskatingclub.ca
SUMMARY:No Skating
DESCRIPTION:
URL:https://swskatingclub.ca/event/no-skating/
CATEGORIES:CanSkate Schedule,Pre-Can Skate,StarSkate Schedule
END:VEVENT
END:VCALENDAR