BEGIN:VCALENDAR
VERSION:2.0
PRODID:-//South Windsor Skating Club - ECPv4.9.3.1//NONSGML v1.0//EN
CALSCALE:GREGORIAN
METHOD:PUBLISH
X-WR-CALNAME:South Windsor Skating Club
X-ORIGINAL-URL:https://swskatingclub.ca
X-WR-CALDESC:Events for South Windsor Skating Club
BEGIN:VEVENT
DTSTART;TZID=UTC+0:20250828T150000
DTEND;TZID=UTC+0:20250828T201000
DTSTAMP:20260419T150834
CREATED:20250529T230455Z
LAST-MODIFIED:20250711T002005Z
UID:4430-1756393200-1756411800@swskatingclub.ca
SUMMARY:Schedule August 28th
DESCRIPTION:**3:00-4:20 Star 7-Gold** \n**4:35-5:45 Star 5-Gold** \n**5:45-6:35 Star 1-4** \n**6:50-7:55 Star 4-Gold** \n
URL:https://swskatingclub.ca/event/schedule-august-28th/
CATEGORIES:StarSkate Schedule
END:VEVENT
END:VCALENDAR