BEGIN:VCALENDAR
VERSION:2.0
PRODID:-//South Windsor Skating Club - ECPv4.9.3.1//NONSGML v1.0//EN
CALSCALE:GREGORIAN
METHOD:PUBLISH
X-WR-CALNAME:South Windsor Skating Club
X-ORIGINAL-URL:https://swskatingclub.ca
X-WR-CALDESC:Events for South Windsor Skating Club
BEGIN:VEVENT
DTSTART;TZID=UTC+0:20250806T150000
DTEND;TZID=UTC+0:20250806T201000
DTSTAMP:20260419T162457
CREATED:20250529T230636Z
LAST-MODIFIED:20250529T230636Z
UID:4432-1754492400-1754511000@swskatingclub.ca
SUMMARY:Schedule August 6th
DESCRIPTION:**3:00-4:30 Star 7-Gold** \n**4:45-6:00 Star 5-Gold** \n**6:00-6:50 CanSkate** \n**7:05-7:55 Star 4-Gold** \n
URL:https://swskatingclub.ca/event/schedule-august-6th/
CATEGORIES:CanSkate Schedule,StarSkate Schedule
END:VEVENT
END:VCALENDAR