BEGIN:VCALENDAR
VERSION:2.0
PRODID:-//South Windsor Skating Club - ECPv4.9.3.1//NONSGML v1.0//EN
CALSCALE:GREGORIAN
METHOD:PUBLISH
X-WR-CALNAME:South Windsor Skating Club
X-ORIGINAL-URL:https://swskatingclub.ca
X-WR-CALDESC:Events for South Windsor Skating Club
BEGIN:VEVENT
DTSTART;TZID=UTC+0:20200917T154500
DTEND;TZID=UTC+0:20200917T181500
DTSTAMP:20260423T091358
CREATED:20200914T011023Z
LAST-MODIFIED:20200914T011023Z
UID:1124-1600357500-1600366500@swskatingclub.ca
SUMMARY:STARSkate
DESCRIPTION:STARSkate 6-GOLD 3:55-5:05 \nSTARSkate 4-5 5:15-6:15 \n
URL:https://swskatingclub.ca/event/starskate-10/
END:VEVENT
END:VCALENDAR