BEGIN:VCALENDAR
VERSION:2.0
PRODID:-//South Windsor Skating Club - ECPv4.9.3.1//NONSGML v1.0//EN
CALSCALE:GREGORIAN
METHOD:PUBLISH
X-WR-CALNAME:South Windsor Skating Club
X-ORIGINAL-URL:https://swskatingclub.ca
X-WR-CALDESC:Events for South Windsor Skating Club
BEGIN:VEVENT
DTSTART;TZID=UTC+0:20200921T181500
DTEND;TZID=UTC+0:20200921T211500
DTSTAMP:20260423T130849
CREATED:20200914T011355Z
LAST-MODIFIED:20200914T011355Z
UID:1130-1600712100-1600722900@swskatingclub.ca
SUMMARY:STARSkate
DESCRIPTION:STARSkate 4-6 6:25-7:45 pm \nSTARSkate 6-GOLD 7:55-9:15 pm \n
URL:https://swskatingclub.ca/event/starskate-13/
END:VEVENT
END:VCALENDAR