BEGIN:VCALENDAR
VERSION:2.0
PRODID:-//South Windsor Skating Club - ECPv4.9.3.1//NONSGML v1.0//EN
CALSCALE:GREGORIAN
METHOD:PUBLISH
X-WR-CALNAME:South Windsor Skating Club
X-ORIGINAL-URL:https://swskatingclub.ca
X-WR-CALDESC:Events for South Windsor Skating Club
BEGIN:VEVENT
DTSTART;TZID=UTC+0:20200923T154500
DTEND;TZID=UTC+0:20200923T204500
DTSTAMP:20260423T155503
CREATED:20200914T011638Z
LAST-MODIFIED:20200914T011740Z
UID:1134-1600875900-1600893900@swskatingclub.ca
SUMMARY:STARSkate
DESCRIPTION:STARSkate 4-GOLD 3:55-4:45 \nSTARSkate 1-3 4:55-5:45 \nSTARSkate 4-5 5:55-7:15 \nSTARSkate 6-GOLD 7:25-8:45 \n
URL:https://swskatingclub.ca/event/starskate-15/
END:VEVENT
END:VCALENDAR