BEGIN:VCALENDAR
VERSION:2.0
PRODID:-//South Windsor Skating Club - ECPv4.9.3.1//NONSGML v1.0//EN
CALSCALE:GREGORIAN
METHOD:PUBLISH
X-WR-CALNAME:South Windsor Skating Club
X-ORIGINAL-URL:https://swskatingclub.ca
X-WR-CALDESC:Events for South Windsor Skating Club
BEGIN:VEVENT
DTSTART;TZID=UTC+0:20200925T160000
DTEND;TZID=UTC+0:20200925T183000
DTSTAMP:20260423T181727
CREATED:20200914T012029Z
LAST-MODIFIED:20200914T012029Z
UID:1139-1601049600-1601058600@swskatingclub.ca
SUMMARY:STARSkate
DESCRIPTION:STARSkate 5-GOLD 4:10-5:30 \nSTARSkate 1-5 5:40-6:30 \n
URL:https://swskatingclub.ca/event/starskate-16/
END:VEVENT
END:VCALENDAR