BEGIN:VCALENDAR
VERSION:2.0
PRODID:-//South Windsor Skating Club - ECPv4.9.3.1//NONSGML v1.0//EN
CALSCALE:GREGORIAN
METHOD:PUBLISH
X-WR-CALNAME:South Windsor Skating Club
X-ORIGINAL-URL:https://swskatingclub.ca
X-WR-CALDESC:Events for South Windsor Skating Club
BEGIN:VEVENT
DTSTART;TZID=UTC+0:20201016T160000
DTEND;TZID=UTC+0:20201016T183000
DTSTAMP:20260424T160211
CREATED:20200927T174253Z
LAST-MODIFIED:20200927T174253Z
UID:1182-1602864000-1602873000@swskatingclub.ca
SUMMARY:STARSkate
DESCRIPTION:STARSkate 5-Gold 4:10-5:30 \nSTARSkate 1-5 5:40-6:30 \n
URL:https://swskatingclub.ca/event/starskate-22/
END:VEVENT
END:VCALENDAR