BEGIN:VCALENDAR
VERSION:2.0
PRODID:-//South Windsor Skating Club - ECPv4.9.3.1//NONSGML v1.0//EN
CALSCALE:GREGORIAN
METHOD:PUBLISH
X-WR-CALNAME:South Windsor Skating Club
X-ORIGINAL-URL:https://swskatingclub.ca
X-WR-CALDESC:Events for South Windsor Skating Club
BEGIN:VEVENT
DTSTART;TZID=UTC+0:20200913T171500
DTEND;TZID=UTC+0:20200913T201500
DTSTAMP:20260423T042422
CREATED:20200914T010722Z
LAST-MODIFIED:20200914T010722Z
UID:1116-1600017300-1600028100@swskatingclub.ca
SUMMARY:STARSkate
DESCRIPTION:STARSkate 4-5 5:25-6:35 \nSTARSkate 6-GOLD 6:45-8:15 \n
URL:https://swskatingclub.ca/event/starskate-6/
END:VEVENT
END:VCALENDAR