BEGIN:VCALENDAR
VERSION:2.0
PRODID:-//South Windsor Skating Club - ECPv4.9.3.1//NONSGML v1.0//EN
CALSCALE:GREGORIAN
METHOD:PUBLISH
X-WR-CALNAME:South Windsor Skating Club
X-ORIGINAL-URL:https://swskatingclub.ca
X-WR-CALDESC:Events for South Windsor Skating Club
BEGIN:VEVENT
DTSTART;TZID=UTC+0:20201006T151500
DTEND;TZID=UTC+0:20201006T201500
DTSTAMP:20260424T063113
CREATED:20200927T173418Z
LAST-MODIFIED:20200927T173418Z
UID:1168-1601997300-1602015300@swskatingclub.ca
SUMMARY:STARSkate and CANPOWERSkate
DESCRIPTION:STARSkate 7-Gold 3:25-4:45 \nSTARSkate 4-6 4:55-6:15 \nSTARSkate 1-3 6:25-7:15 \nCANPOWERSkate U9\, U11 & U13 7:25-8:15 \n
URL:https://swskatingclub.ca/event/starskate-and-canpowerskate-3/
END:VEVENT
END:VCALENDAR