BEGIN:VCALENDAR
VERSION:2.0
PRODID:-//South Windsor Skating Club - ECPv4.9.3.1//NONSGML v1.0//EN
CALSCALE:GREGORIAN
METHOD:PUBLISH
X-WR-CALNAME:South Windsor Skating Club
X-ORIGINAL-URL:https://swskatingclub.ca
X-WR-CALDESC:Events for South Windsor Skating Club
BEGIN:VEVENT
DTSTART;TZID=UTC+0:20200924T161500
DTEND;TZID=UTC+0:20200924T201500
DTSTAMP:20260423T170528
CREATED:20200914T011922Z
LAST-MODIFIED:20200914T011922Z
UID:1136-1600964100-1600978500@swskatingclub.ca
SUMMARY:STARSkate and CANPOWERSkate Coach Training
DESCRIPTION:STARSkate 7-GOLD 4:25-5:15 pm \nSTARSkate 4-GOLD 5:25-6:15 pm \nCANPOWERSkate Coach Training 6:25-8:15 pm \n
URL:https://swskatingclub.ca/event/starskate-and-canpowerskate-coach-training/
END:VEVENT
END:VCALENDAR