BEGIN:VCALENDAR
VERSION:2.0
PRODID:-//South Windsor Skating Club - ECPv4.9.3.1//NONSGML v1.0//EN
CALSCALE:GREGORIAN
METHOD:PUBLISH
X-WR-CALNAME:South Windsor Skating Club
X-ORIGINAL-URL:https://swskatingclub.ca
X-WR-CALDESC:Events for South Windsor Skating Club
BEGIN:VEVENT
DTSTART;TZID=UTC+0:20200929T151500
DTEND;TZID=UTC+0:20200929T211500
DTSTAMP:20260423T221923
CREATED:20200914T012510Z
LAST-MODIFIED:20200927T172313Z
UID:1145-1601392500-1601414100@swskatingclub.ca
SUMMARY:STARSkate and CANPOWERSkate
DESCRIPTION:STARSkate 7-GOLD 3:25-4:45 pm \nSTARSkate 4-6 4:55-6:15 pm \nSTARSkate 1-3 6:25-7:15 pm \nCANPOWERSkate U9\, 11 & 13 7:25-8:15 pm \n  \n
URL:https://swskatingclub.ca/event/starskate-and-canpowerskate/
END:VEVENT
END:VCALENDAR