BEGIN:VCALENDAR
VERSION:2.0
PRODID:-//South Windsor Skating Club - ECPv4.9.3.1//NONSGML v1.0//EN
CALSCALE:GREGORIAN
METHOD:PUBLISH
X-WR-CALNAME:South Windsor Skating Club
X-ORIGINAL-URL:https://swskatingclub.ca
X-WR-CALDESC:Events for South Windsor Skating Club
BEGIN:VEVENT
DTSTART;TZID=UTC+0:20200211T151500
DTEND;TZID=UTC+0:20200211T211500
DTSTAMP:20260423T054931
CREATED:20191228T234513Z
LAST-MODIFIED:20191228T234513Z
UID:627-1581434100-1581455700@swskatingclub.ca
SUMMARY:STARSkate\, POWERSkate and ADULT POWERSkate Today.
DESCRIPTION:Regularly scheduled classes today.  See posted schedule on our homepage. \n
URL:https://swskatingclub.ca/event/starskate-powerskate-and-adult-powerskate-today-5/
CATEGORIES:PowerSkate Schedule,StarSkate Schedule
END:VEVENT
END:VCALENDAR