BEGIN:VCALENDAR
VERSION:2.0
PRODID:-//South Windsor Skating Club - ECPv4.9.3.1//NONSGML v1.0//EN
CALSCALE:GREGORIAN
METHOD:PUBLISH
X-WR-CALNAME:South Windsor Skating Club
X-ORIGINAL-URL:https://swskatingclub.ca
X-WR-CALDESC:Events for South Windsor Skating Club
BEGIN:VEVENT
DTSTART;TZID=UTC+0:20200316T154500
DTEND;TZID=UTC+0:20200316T184500
DTSTAMP:20260423T042432
CREATED:20191229T002630Z
LAST-MODIFIED:20191229T002630Z
UID:683-1584373500-1584384300@swskatingclub.ca
SUMMARY:STARSkate Today.
DESCRIPTION:3:45-3:55 Flood \n3:55-5:25 STAR 5-Gold \n5:25-5:35 Flood \n5:35-6:45 STAR 1-4 \n
URL:https://swskatingclub.ca/event/starskate-today-20/
CATEGORIES:StarSkate Schedule
END:VEVENT
END:VCALENDAR