BEGIN:VCALENDAR
VERSION:2.0
PRODID:-//South Windsor Skating Club - ECPv4.9.3.1//NONSGML v1.0//EN
CALSCALE:GREGORIAN
METHOD:PUBLISH
X-WR-CALNAME:South Windsor Skating Club
X-ORIGINAL-URL:https://swskatingclub.ca
X-WR-CALDESC:Events for South Windsor Skating Club
BEGIN:VEVENT
DTSTART;TZID=UTC+0:20251214T150000
DTEND;TZID=UTC+0:20251214T200000
DTSTAMP:20260413T131502
CREATED:20250814T180032Z
LAST-MODIFIED:20250814T180032Z
UID:4542-1765724400-1765742400@swskatingclub.ca
SUMMARY:Sunday\, December 14th Schedule
DESCRIPTION:**No PreCanSkate** \n**3:10-4:00 CanSkate Santa Skate** \n**4:10-8:00 Holiday Showcase** \n
URL:https://swskatingclub.ca/event/sunday-december-14th-schedule/
CATEGORIES:CanSkate Schedule,Pre-Can Skate,StarSkate Schedule
END:VEVENT
END:VCALENDAR