BEGIN:VCALENDAR
VERSION:2.0
PRODID:-//South Windsor Skating Club - ECPv4.9.3.1//NONSGML v1.0//EN
CALSCALE:GREGORIAN
METHOD:PUBLISH
X-WR-CALNAME:South Windsor Skating Club
X-ORIGINAL-URL:https://swskatingclub.ca
X-WR-CALDESC:Events for South Windsor Skating Club
BEGIN:VEVENT
DTSTART;VALUE=DATE:20251221
DTEND;VALUE=DATE:20251222
DTSTAMP:20260417T045212
CREATED:20250814T180118Z
LAST-MODIFIED:20250814T180118Z
UID:4544-1766275200-1766361599@swskatingclub.ca
SUMMARY:Sunday\, December 21st No Skating
DESCRIPTION:**No Skating all Programs** \n
URL:https://swskatingclub.ca/event/sunday-december-21st-no-skating/
CATEGORIES:CanSkate Schedule,Pre-Can Skate,StarSkate Schedule
END:VEVENT
END:VCALENDAR