BEGIN:VCALENDAR
VERSION:2.0
PRODID:-//South Windsor Skating Club - ECPv4.9.3.1//NONSGML v1.0//EN
CALSCALE:GREGORIAN
METHOD:PUBLISH
X-WR-CALNAME:South Windsor Skating Club
X-ORIGINAL-URL:https://swskatingclub.ca
X-WR-CALDESC:Events for South Windsor Skating Club
BEGIN:VEVENT
DTSTART;TZID=UTC+0:20220220T080000
DTEND;TZID=UTC+0:20220220T170000
DTSTAMP:20260419T175923
CREATED:20210831T143142Z
LAST-MODIFIED:20210831T143142Z
UID:1869-1645344000-1645376400@swskatingclub.ca
SUMMARY:Sunday February 20 Schedule
DESCRIPTION:3:25-3:55 PRECANSkate \n3:55-4:45 CANSkate A \n4:55-5:45 CANSkate B \n5:45-6:45 CANSkate C \n6:55-7:45 Star 1-4 \n7:55-8:45 Star 5-Gold \n
URL:https://swskatingclub.ca/event/sunday-february-20-schedule/
CATEGORIES:CanSkate Schedule,Pre-Can Skate,StarSkate Schedule
END:VEVENT
END:VCALENDAR