BEGIN:VCALENDAR
VERSION:2.0
PRODID:-//South Windsor Skating Club - ECPv4.9.3.1//NONSGML v1.0//EN
CALSCALE:GREGORIAN
METHOD:PUBLISH
X-WR-CALNAME:South Windsor Skating Club
X-ORIGINAL-URL:https://swskatingclub.ca
X-WR-CALDESC:Events for South Windsor Skating Club
BEGIN:VEVENT
DTSTART;TZID=UTC+0:20220327T151500
DTEND;TZID=UTC+0:20220327T204500
DTSTAMP:20260422T081610
CREATED:20220221T165843Z
LAST-MODIFIED:20220221T173000Z
UID:2052-1648394100-1648413900@swskatingclub.ca
SUMMARY:Sunday\, March 27 Schedule
DESCRIPTION:3:25-3:55 PRECANSkate (January makeup) \n3:55-4:45 CANSkate A (January makeup) \n4:55-5:45 CANSkate B (January makeup) \n5:45-6:45 CANSkate C (January makeup) \n6:55-7:45 STAR 1-4 (January makeup) \n7:55-8:45 STAR 5-Gold (January makeup) \n
URL:https://swskatingclub.ca/event/sunday-march-27-schedule-2/
CATEGORIES:CanSkate Schedule,Pre-Can Skate,StarSkate Schedule
END:VEVENT
END:VCALENDAR