BEGIN:VCALENDAR
VERSION:2.0
PRODID:-//South Windsor Skating Club - ECPv4.9.3.1//NONSGML v1.0//EN
CALSCALE:GREGORIAN
METHOD:PUBLISH
X-WR-CALNAME:South Windsor Skating Club
X-ORIGINAL-URL:https://swskatingclub.ca
X-WR-CALDESC:Events for South Windsor Skating Club
BEGIN:VEVENT
DTSTART;TZID=UTC+0:20250511T150000
DTEND;TZID=UTC+0:20250511T200000
DTSTAMP:20260421T110512
CREATED:20250210T004448Z
LAST-MODIFIED:20250210T004448Z
UID:4324-1746975600-1746993600@swskatingclub.ca
SUMMARY:Sunday\, May 11th Schedule
DESCRIPTION:**3:10-4:00 CanSkate All Levels** \n**3:20-3:50 PreCanSkate Age 3-4** \n**4:00-4:50 CanSkate All Levels** \n**4:10-4:40 PreCanSkate Age 3-4** \n**5:00-5:50 CanSkate All Levels** \n**5:10-5:40 PreCanSkate Age 3-4** \n**5:50-6:50 Star 1-3** \n**7:00-8:00 Star 4-Gold** \n
URL:https://swskatingclub.ca/event/sunday-may-11th-schedule/
CATEGORIES:CanSkate Schedule,Pre-Can Skate,StarSkate Schedule
END:VEVENT
END:VCALENDAR