BEGIN:VCALENDAR
VERSION:2.0
PRODID:-//South Windsor Skating Club - ECPv4.9.3.1//NONSGML v1.0//EN
CALSCALE:GREGORIAN
METHOD:PUBLISH
X-WR-CALNAME:South Windsor Skating Club
X-ORIGINAL-URL:https://swskatingclub.ca
X-WR-CALDESC:Events for South Windsor Skating Club
BEGIN:VEVENT
DTSTART;TZID=UTC+0:20241020T190000
DTEND;TZID=UTC+0:20241020T210000
DTSTAMP:20260419T210145
CREATED:20240822T124024Z
LAST-MODIFIED:20240822T124024Z
UID:3843-1729450800-1729458000@swskatingclub.ca
SUMMARY:Sunday\, October 20th Schedule
DESCRIPTION:**7:10-8:00 Star 1-3** \n**8:00-9:00 Star 4-Gold** \n
URL:https://swskatingclub.ca/event/sunday-october-20th-schedule/
CATEGORIES:StarSkate Schedule
END:VEVENT
END:VCALENDAR