BEGIN:VCALENDAR
VERSION:2.0
PRODID:-//South Windsor Skating Club - ECPv4.9.3.1//NONSGML v1.0//EN
CALSCALE:GREGORIAN
METHOD:PUBLISH
X-WR-CALNAME:South Windsor Skating Club
X-ORIGINAL-URL:https://swskatingclub.ca
X-WR-CALDESC:Events for South Windsor Skating Club
BEGIN:VEVENT
DTSTART;TZID=UTC+0:20210912T184500
DTEND;TZID=UTC+0:20210912T204500
DTSTAMP:20260420T005043
CREATED:20210829T164623Z
LAST-MODIFIED:20210829T164623Z
UID:1593-1631472300-1631479500@swskatingclub.ca
SUMMARY:Sunday September 12 Schedule
DESCRIPTION:6:55-7:45 Star 1-4 \n7:55-8:45 Star 5-Gold \n
URL:https://swskatingclub.ca/event/sunday-september-12-schedule/
CATEGORIES:StarSkate Schedule
END:VEVENT
END:VCALENDAR